BEGIN:VCALENDAR
VERSION:2.0
PRODID:-//Rutgers Youth Sports Research Council - ECPv6.7.0//NONSGML v1.0//EN
CALSCALE:GREGORIAN
METHOD:PUBLISH
X-WR-CALNAME:Rutgers Youth Sports Research Council
X-ORIGINAL-URL:https://youthsports.rutgers.edu
X-WR-CALDESC:Events for Rutgers Youth Sports Research Council
REFRESH-INTERVAL;VALUE=DURATION:PT1H
X-Robots-Tag:noindex
X-PUBLISHED-TTL:PT1H
BEGIN:VTIMEZONE
TZID:America/New_York
BEGIN:DAYLIGHT
TZOFFSETFROM:-0500
TZOFFSETTO:-0400
TZNAME:EDT
DTSTART:20260308T070000
END:DAYLIGHT
BEGIN:STANDARD
TZOFFSETFROM:-0400
TZOFFSETTO:-0500
TZNAME:EST
DTSTART:20261101T060000
END:STANDARD
END:VTIMEZONE
BEGIN:VEVENT
DTSTART;TZID=America/New_York:20260425T080000
DTEND;TZID=America/New_York:20260425T110000
DTSTAMP:20260422T115707
CREATED:20260107T152940Z
LAST-MODIFIED:20260107T152940Z
UID:4437-1777104000-1777114800@youthsports.rutgers.edu
SUMMARY:SAFETY Clinic- Denville Recreation
DESCRIPTION:To register\, email: npanetta@denvillenj.org\nCost $40
URL:https://youthsports.rutgers.edu/course/safety-clinic-denville-recreation-2/
LOCATION:Denville Municipal Building\, 1 St. Mary's Place\, Denville\, NJ\, 07834\, United States
GEO:40.895525;-74.4831867
X-APPLE-STRUCTURED-LOCATION;VALUE=URI;X-ADDRESS=Denville Municipal Building 1 St. Mary's Place Denville NJ 07834 United States;X-APPLE-RADIUS=500;X-TITLE=1 St. Mary's Place:geo:-74.4831867,40.895525
END:VEVENT
END:VCALENDAR